BEGIN:VCALENDAR
VERSION:2.0
PRODID:-//Foix Maison des Mobilités - ECPv6.15.20//NONSGML v1.0//EN
CALSCALE:GREGORIAN
METHOD:PUBLISH
X-ORIGINAL-URL:https://foixmobilites.org
X-WR-CALDESC:Évènements pour Foix Maison des Mobilités
REFRESH-INTERVAL;VALUE=DURATION:PT1H
X-Robots-Tag:noindex
X-PUBLISHED-TTL:PT1H
BEGIN:VTIMEZONE
TZID:Europe/Paris
BEGIN:DAYLIGHT
TZOFFSETFROM:+0100
TZOFFSETTO:+0200
TZNAME:CEST
DTSTART:20250330T010000
END:DAYLIGHT
BEGIN:STANDARD
TZOFFSETFROM:+0200
TZOFFSETTO:+0100
TZNAME:CET
DTSTART:20251026T010000
END:STANDARD
BEGIN:DAYLIGHT
TZOFFSETFROM:+0100
TZOFFSETTO:+0200
TZNAME:CEST
DTSTART:20260329T010000
END:DAYLIGHT
BEGIN:STANDARD
TZOFFSETFROM:+0200
TZOFFSETTO:+0100
TZNAME:CET
DTSTART:20261025T010000
END:STANDARD
BEGIN:DAYLIGHT
TZOFFSETFROM:+0100
TZOFFSETTO:+0200
TZNAME:CEST
DTSTART:20270328T010000
END:DAYLIGHT
BEGIN:STANDARD
TZOFFSETFROM:+0200
TZOFFSETTO:+0100
TZNAME:CET
DTSTART:20271031T010000
END:STANDARD
END:VTIMEZONE
BEGIN:VEVENT
DTSTART;TZID=Europe/Paris:20260218T170000
DTEND;TZID=Europe/Paris:20260218T210000
DTSTAMP:20260421T174643
CREATED:20260203T115034Z
LAST-MODIFIED:20260203T115351Z
UID:687-1771434000-1771448400@foixmobilites.org
SUMMARY:Apéro démontage
DESCRIPTION:Venez comme vous êtes ! \nLe 3ème mercredi du mois on démonte les vélos donnés ou récupérés à l’atelier pour se refaire le stocks de pièces d’occasion. Pensez à apporter de quoi partager avec tout le monde ! \nTu n’es pas à l’aise en méca vélo ? \nC’est l’occasion d’apprendre à vitesse grand V en désossant les vélos. Se fait toujours en présence de bénévoles aguerris à qui poser des questions. \nVeuillez activer JavaScript dans votre navigateur pour remplir ce formulaire.Nom *Email *Message *Envoyer
URL:https://foixmobilites.org/index.php/event/apero-demontage/
LOCATION:17 bis cour irenee cros\, foix\, 17 cour irenee cros\, Foix\, 09000\, France
CATEGORIES:Apéro démontage
END:VEVENT
END:VCALENDAR