BEGIN:VCALENDAR
VERSION:2.0
PRODID:-//Foix Maison des Mobilités - ECPv6.15.20//NONSGML v1.0//EN
CALSCALE:GREGORIAN
METHOD:PUBLISH
X-WR-CALNAME:Foix Maison des Mobilités
X-ORIGINAL-URL:https://foixmobilites.org
X-WR-CALDESC:Évènements pour Foix Maison des Mobilités
REFRESH-INTERVAL;VALUE=DURATION:PT1H
X-Robots-Tag:noindex
X-PUBLISHED-TTL:PT1H
BEGIN:VTIMEZONE
TZID:Europe/Paris
BEGIN:DAYLIGHT
TZOFFSETFROM:+0100
TZOFFSETTO:+0200
TZNAME:CEST
DTSTART:20240331T010000
END:DAYLIGHT
BEGIN:STANDARD
TZOFFSETFROM:+0200
TZOFFSETTO:+0100
TZNAME:CET
DTSTART:20241027T010000
END:STANDARD
BEGIN:DAYLIGHT
TZOFFSETFROM:+0100
TZOFFSETTO:+0200
TZNAME:CEST
DTSTART:20250330T010000
END:DAYLIGHT
BEGIN:STANDARD
TZOFFSETFROM:+0200
TZOFFSETTO:+0100
TZNAME:CET
DTSTART:20251026T010000
END:STANDARD
BEGIN:DAYLIGHT
TZOFFSETFROM:+0100
TZOFFSETTO:+0200
TZNAME:CEST
DTSTART:20260329T010000
END:DAYLIGHT
BEGIN:STANDARD
TZOFFSETFROM:+0200
TZOFFSETTO:+0100
TZNAME:CET
DTSTART:20261025T010000
END:STANDARD
BEGIN:DAYLIGHT
TZOFFSETFROM:+0100
TZOFFSETTO:+0200
TZNAME:CEST
DTSTART:20270328T010000
END:DAYLIGHT
BEGIN:STANDARD
TZOFFSETFROM:+0200
TZOFFSETTO:+0100
TZNAME:CET
DTSTART:20271031T010000
END:STANDARD
END:VTIMEZONE
BEGIN:VEVENT
DTSTART;TZID=Europe/Paris:20260327T160000
DTEND;TZID=Europe/Paris:20260327T190000
DTSTAMP:20260421T130936
CREATED:20260203T094817Z
LAST-MODIFIED:20260203T110943Z
UID:644-1774627200-1774638000@foixmobilites.org
SUMMARY:Assemblée Générale 2025
DESCRIPTION:L’Assemblée générale pour clôturer l’année 2025 aura lieu vendredi 27 mars 2026 de 16h à 19h à l’atelier. Pensez à apporter quelque chose pour l’auberge ariégeoise qui clôturera la soirée.N’oubliez pas de renouveler votre adhésion pour pouvoir prendre part au vote ! \nEnfin\, vous êtes intéressé·es à rejoindre l’équipe bénévole voire l’équipe des administrateur·ices dans la collégiale ? Faites-le nous savoir en remplissant le formulaire suivant ou en contactant le 07 88 97 37 64.Veuillez activer JavaScript dans votre navigateur pour remplir ce formulaire.Nom *Email *Message *Envoyer
URL:https://foixmobilites.org/index.php/event/assemblee-geniale-foix-maison-des-mobilites/
LOCATION:17 bis cour irenee cros\, foix\, 17 cour irenee cros\, Foix\, 09000\, France
CATEGORIES:Vie de l'asso
ORGANIZER;CN="Foix maison des mob":MAILTO:bonjour@foixmobilites.org
END:VEVENT
BEGIN:VEVENT
DTSTART;TZID=Europe/Paris:20260306T173000
DTEND;TZID=Europe/Paris:20260306T190000
DTSTAMP:20260421T130936
CREATED:20260203T141935Z
LAST-MODIFIED:20260226T081437Z
UID:697-1772818200-1772823600@foixmobilites.org
SUMMARY:Réunion accueil nouveaux bénévoles
DESCRIPTION:Vous avez envie de mieux connaître l’équipe qui anime l’atelier vélo participatif de Foix ? \nVous êtes utilisateur·ice de l’atelier et vous avez des choses à dire ? \nVous n’êtes jamais venu·e mais vous avez envie de vous investir sans savoir par où commencer ? \nCet apéro bénévole est fait pour vous ! \n 
URL:https://foixmobilites.org/index.php/event/reunion-accueil-nouveaux-benevoles/
LOCATION:17 bis cour irenee cros\, foix\, 17 cour irenee cros\, Foix\, 09000\, France
CATEGORIES:Permanence atelier,Vie de l'asso
END:VEVENT
BEGIN:VEVENT
DTSTART;TZID=Europe/Paris:20260302T181500
DTEND;TZID=Europe/Paris:20260302T210000
DTSTAMP:20260421T130936
CREATED:20260205T133649Z
LAST-MODIFIED:20260205T133649Z
UID:719-1772475300-1772485200@foixmobilites.org
SUMMARY:Réunion CA mensuelle
DESCRIPTION:Tous les premiers lundis du mois\, les administrateur·ices de Foix maison des mobilités se réunissent en présence du salarié coordinateur pour avancer sur les différents sujets de l’association. \nVous souhaiteriez participer à l’une de ces réunions comme simple curieux·se ou dans l’idée de vous investir dans la collégiale de l’association ou comme bénévole ? Vous êtes le·la bienvenue ! \nTenez-nous informés de votre participation : \nVeuillez activer JavaScript dans votre navigateur pour remplir ce formulaire.Nom *Email *Message *Envoyer
URL:https://foixmobilites.org/index.php/event/reunion-ca-mensuelle-2/
LOCATION:17 bis cour irenee cros\, foix\, 17 cour irenee cros\, Foix\, 09000\, France
CATEGORIES:Vie de l'asso
END:VEVENT
BEGIN:VEVENT
DTSTART;TZID=Europe/Paris:20260227T140000
DTEND;TZID=Europe/Paris:20260227T170000
DTSTAMP:20260421T130936
CREATED:20260203T142521Z
LAST-MODIFIED:20260203T142521Z
UID:701-1772200800-1772211600@foixmobilites.org
SUMMARY:Atelier vélo participatif
DESCRIPTION:Venez comme vous êtes ! \nIl vous faudra prendre une adhésion annuelle (à partir de 15€) pour utiliser le plateau outils de l’atelier. \nSur place vous trouverez des pièces d’occasion à prix libres et du neuf pour les consommables (chambre à air\, câbles\, gaines…). \nVous souhaitez devenir bénévole à l’atelier et être formé à la mécanique du vélo ou rejoindre l’équipe des bénévoles ? Faites-le nous savoir : \nVeuillez activer JavaScript dans votre navigateur pour remplir ce formulaire.Nom *Email *Message *Envoyer
URL:https://foixmobilites.org/index.php/event/atelier-velo-participatif-7/
LOCATION:17 bis cour irenee cros\, foix\, 17 cour irenee cros\, Foix\, 09000\, France
CATEGORIES:Permanence atelier,Vie de l'asso
END:VEVENT
BEGIN:VEVENT
DTSTART;TZID=Europe/Paris:20260225T170000
DTEND;TZID=Europe/Paris:20260225T210000
DTSTAMP:20260421T130936
CREATED:20260203T142409Z
LAST-MODIFIED:20260203T142409Z
UID:699-1772038800-1772053200@foixmobilites.org
SUMMARY:Atelier vélo participatif
DESCRIPTION:Venez comme vous êtes ! \nIl vous faudra prendre une adhésion annuelle (à partir de 15€) pour utiliser le plateau outils de l’atelier. \nSur place vous trouverez des pièces d’occasion à prix libres et du neuf pour les consommables (chambre à air\, câbles\, gaines…). \nVous souhaitez devenir bénévole à l’atelier et être formé à la mécanique du vélo ou rejoindre l’équipe des bénévoles ? Faites-le nous savoir : \nVeuillez activer JavaScript dans votre navigateur pour remplir ce formulaire.Nom *Email *Message *Envoyer
URL:https://foixmobilites.org/index.php/event/atelier-velo-participatif-6/
LOCATION:17 bis cour irenee cros\, foix\, 17 cour irenee cros\, Foix\, 09000\, France
CATEGORIES:Permanence atelier
END:VEVENT
BEGIN:VEVENT
DTSTART;TZID=Europe/Paris:20260220T140000
DTEND;TZID=Europe/Paris:20260220T170000
DTSTAMP:20260421T130936
CREATED:20260203T115244Z
LAST-MODIFIED:20260203T115321Z
UID:689-1771596000-1771606800@foixmobilites.org
SUMMARY:Atelier vélo participatif
DESCRIPTION:Venez comme vous êtes ! \nIl vous faudra prendre une adhésion annuelle (à partir de 15€) pour utiliser le plateau outils de l’atelier. \nSur place vous trouverez des pièces d’occasion à prix libres et du neuf pour les consommables (chambre à air\, câbles\, gaines…). \nVous souhaitez devenir bénévole à l’atelier et être formé à la mécanique du vélo ou rejoindre l’équipe des bénévoles ? Faites-le nous savoir :
URL:https://foixmobilites.org/index.php/event/atelier-velo-participatif-5/
LOCATION:17 bis cour irenee cros\, foix\, 17 cour irenee cros\, Foix\, 09000\, France
CATEGORIES:Permanence atelier
END:VEVENT
BEGIN:VEVENT
DTSTART;TZID=Europe/Paris:20260218T170000
DTEND;TZID=Europe/Paris:20260218T210000
DTSTAMP:20260421T130936
CREATED:20260203T115034Z
LAST-MODIFIED:20260203T115351Z
UID:687-1771434000-1771448400@foixmobilites.org
SUMMARY:Apéro démontage
DESCRIPTION:Venez comme vous êtes ! \nLe 3ème mercredi du mois on démonte les vélos donnés ou récupérés à l’atelier pour se refaire le stocks de pièces d’occasion. Pensez à apporter de quoi partager avec tout le monde ! \nTu n’es pas à l’aise en méca vélo ? \nC’est l’occasion d’apprendre à vitesse grand V en désossant les vélos. Se fait toujours en présence de bénévoles aguerris à qui poser des questions. \nVeuillez activer JavaScript dans votre navigateur pour remplir ce formulaire.Nom *Email *Message *Envoyer
URL:https://foixmobilites.org/index.php/event/apero-demontage/
LOCATION:17 bis cour irenee cros\, foix\, 17 cour irenee cros\, Foix\, 09000\, France
CATEGORIES:Apéro démontage
END:VEVENT
BEGIN:VEVENT
DTSTART;TZID=Europe/Paris:20260213T140000
DTEND;TZID=Europe/Paris:20260213T170000
DTSTAMP:20260421T130936
CREATED:20260203T114809Z
LAST-MODIFIED:20260203T114809Z
UID:685-1770991200-1771002000@foixmobilites.org
SUMMARY:Atelier vélo participatif
DESCRIPTION:Venez comme vous êtes ! \nIl vous faudra prendre une adhésion annuelle (à partir de 15€) pour utiliser le plateau outils de l’atelier. \nSur place vous trouverez des pièces d’occasion à prix libres et du neuf pour les consommables (chambre à air\, câbles\, gaines…). \nVous souhaitez devenir bénévole à l’atelier et être formé à la mécanique du vélo ou rejoindre l’équipe des bénévoles ? Faites-le nous savoir : \nVeuillez activer JavaScript dans votre navigateur pour remplir ce formulaire.Nom *Email *Message *Envoyer
URL:https://foixmobilites.org/index.php/event/atelier-velo-participatif-4/
LOCATION:17 bis cour irenee cros\, foix\, 17 cour irenee cros\, Foix\, 09000\, France
CATEGORIES:Permanence atelier
END:VEVENT
BEGIN:VEVENT
DTSTART;TZID=Europe/Paris:20260212T180000
DTEND;TZID=Europe/Paris:20260212T200000
DTSTAMP:20260421T130936
CREATED:20260203T114625Z
LAST-MODIFIED:20260203T114625Z
UID:683-1770919200-1770926400@foixmobilites.org
SUMMARY:Atelier Mécameuf
DESCRIPTION:Si tu as envie d’apprendre à utiliser les outils de l’atelier sans te sentir jugé·e ou oppressé·e par des mecs ci-genres avides de t’apprendre la vie et comment tenir un tournevis\, viens sur ce créneau. On a besoin de bras\, c’est le moment de se serrer les coudes et de trouver ensemble des solutions à tes problèmes de méca 😉
URL:https://foixmobilites.org/index.php/event/atelier-mecameuf/
LOCATION:17 bis cour irenee cros\, foix\, 17 cour irenee cros\, Foix\, 09000\, France
CATEGORIES:Mécameuf
END:VEVENT
BEGIN:VEVENT
DTSTART;TZID=Europe/Paris:20260211T170000
DTEND;TZID=Europe/Paris:20260211T210000
DTSTAMP:20260421T130936
CREATED:20260203T113703Z
LAST-MODIFIED:20260203T113703Z
UID:681-1770829200-1770843600@foixmobilites.org
SUMMARY:Atelier vélo participatif
DESCRIPTION:Venez comme vous êtes ! \nIl vous faudra prendre une adhésion annuelle (à partir de 15€) pour utiliser le plateau outils de l’atelier. \nSur place vous trouverez des pièces d’occasion à prix libres et du neuf pour les consommables (chambre à air\, câbles\, gaines…). \nVous souhaitez devenir bénévole à l’atelier et être formé à la mécanique du vélo ou rejoindre l’équipe des bénévoles ? Faites-le nous savoir : \nVeuillez activer JavaScript dans votre navigateur pour remplir ce formulaire.Nom *Email *Message *Envoyer
URL:https://foixmobilites.org/index.php/event/atelier-velo-participatif-3/
LOCATION:17 bis cour irenee cros\, foix\, 17 cour irenee cros\, Foix\, 09000\, France
CATEGORIES:Permanence atelier
END:VEVENT
BEGIN:VEVENT
DTSTART;TZID=Europe/Paris:20260206T140000
DTEND;TZID=Europe/Paris:20260206T170000
DTSTAMP:20260421T130936
CREATED:20260203T113414Z
LAST-MODIFIED:20260203T113414Z
UID:679-1770386400-1770397200@foixmobilites.org
SUMMARY:Atelier vélo participatif
DESCRIPTION:Venez comme vous êtes ! \nIl vous faudra prendre une adhésion annuelle (à partir de 15€) pour utiliser le plateau outils de l’atelier. \nSur place vous trouverez des pièces d’occasion à prix libres et du neuf pour les consommables (chambre à air\, câbles\, gaines…). \nVous souhaitez devenir bénévole à l’atelier et être formé à la mécanique du vélo ou rejoindre l’équipe des bénévoles ? Faites-le nous savoir : \nVeuillez activer JavaScript dans votre navigateur pour remplir ce formulaire.Nom *Email *Message *Envoyer
URL:https://foixmobilites.org/index.php/event/atelier-velo-participatif-2/
LOCATION:17 bis cour irenee cros\, foix\, 17 cour irenee cros\, Foix\, 09000\, France
CATEGORIES:Permanence atelier
END:VEVENT
BEGIN:VEVENT
DTSTART;TZID=Europe/Paris:20260204T170000
DTEND;TZID=Europe/Paris:20260204T210000
DTSTAMP:20260421T130936
CREATED:20260203T113035Z
LAST-MODIFIED:20260203T113035Z
UID:677-1770224400-1770238800@foixmobilites.org
SUMMARY:Atelier vélo participatif
DESCRIPTION:
URL:https://foixmobilites.org/index.php/event/atelier-velo-participatif/
LOCATION:17 bis cour irenee cros\, foix\, 17 cour irenee cros\, Foix\, 09000\, France
CATEGORIES:Permanence atelier
END:VEVENT
BEGIN:VEVENT
DTSTART;TZID=Europe/Paris:20260203T180000
DTEND;TZID=Europe/Paris:20260203T213000
DTSTAMP:20260421T130936
CREATED:20260203T115638Z
LAST-MODIFIED:20260203T115901Z
UID:691-1770141600-1770154200@foixmobilites.org
SUMMARY:Réunion CA mensuelle
DESCRIPTION:Tous les premiers mardis du mois\, les administrateur·ices de Foix maison des mobilités se réunissent en présence du salarié coordinateur pour avancer sur les différents sujets de l’association. \nVous souhaiteriez participer à l’une de ces réunions comme simple curieux·se ou dans l’idée de vous investir dans la collégiale de l’association ou comme bénévole ? Vous êtes le·la bienvenue ! \nTenez-nous informés de votre participation : \nVeuillez activer JavaScript dans votre navigateur pour remplir ce formulaire.Nom *Email *Message *Envoyer
URL:https://foixmobilites.org/index.php/event/reunion-ca-mensuelle/
LOCATION:17 bis cour irenee cros\, foix\, 17 cour irenee cros\, Foix\, 09000\, France
CATEGORIES:Vie de l'asso
ORGANIZER;CN="Foix maison des mob":MAILTO:bonjour@foixmobilites.org
END:VEVENT
BEGIN:VEVENT
DTSTART;TZID=Europe/Paris:20250920T090000
DTEND;TZID=Europe/Paris:20250920T180000
DTSTAMP:20260421T130936
CREATED:20250903T125408Z
LAST-MODIFIED:20250903T125408Z
UID:606-1758358800-1758391200@foixmobilites.org
SUMMARY:Bourse aux vélos de la rentrée
DESCRIPTION:Bourse aux vélos de la rentrée\, samedi 20/09 allée de Villote en collaboration avec le marché des producteurs de Nature & Progrès. \nSamedi 20 septembre 2025 à Foix (Ariège)\, Marché Nature & progrès. De 10 h à 18 h\, marché des professionnelles et professionnels d’Occitanie sous mention Nature & Progrès\, place de la Halle aux grain. 
URL:https://foixmobilites.org/index.php/event/bourse-aux-velos-de-la-rentree/
LOCATION:Allée de Villote\, Foix\, Foix\, 09000
ORGANIZER;CN="Foix maison des mob":MAILTO:bonjour@foixmobilites.org
END:VEVENT
BEGIN:VEVENT
DTSTART;TZID=Europe/Paris:20250919T183000
DTEND;TZID=Europe/Paris:20250919T203000
DTSTAMP:20260421T130936
CREATED:20250903T124630Z
LAST-MODIFIED:20250904T070146Z
UID:600-1758306600-1758313800@foixmobilites.org
SUMMARY:Masse critique en musique
DESCRIPTION:Tous les derniers vendredis du mois\, désormais ce sera la Masse critique à vélo !\n\nDépart de Foix\, en musique\, pour prendre de l’espace sur la route et faire groupe contre l’hégémonie de la voiture.\n\nVendredi 19/09 à 18h30 Halle aux grains\, Foix. Ballade festive à vélo puis apéro et présentation de l’atelier vélo au 17bis cours Irénée cros\, Foix.\n\n\n\n 
URL:https://foixmobilites.org/index.php/event/critical-mass/
LOCATION:Halle aux grains\, Foix\, Allée de Villote\, Foix\, 09000
ORGANIZER;CN="Foix maison des mob":MAILTO:bonjour@foixmobilites.org
END:VEVENT
BEGIN:VEVENT
DTSTART;TZID=Europe/Paris:20250915T180000
DTEND;TZID=Europe/Paris:20250915T210000
DTSTAMP:20260421T130936
CREATED:20250903T124204Z
LAST-MODIFIED:20250903T125249Z
UID:596-1757959200-1757970000@foixmobilites.org
SUMMARY:Soirée projection débat le voyage à vélo au féminin
DESCRIPTION:Projection débat voyage à vélo 100% féminin  \nLe film « Leurs Odyssées » raconte l’histoire de 5 femmes qui se préparent pour leur première aventure longue distance à vélo et en solo. \nC’est l’histoire de 5 femmes uniques : Mathilda\, Jeanne\, Marie\, Camille et Amélia avec chacune leur propre cheminement\, leur propre expérience du vélo\, leurs propres motivations\, peur et façons d’aborder leur préparation ! \nCes Odyssées au pluriel racontent qu’on a beau rouler sur une même trace\, l’histoire qu’on raconte est propre à chacune d’entre nous. En leur compagnie\, vous allez rire\, être ému.e\, mais surtout vous allez vous projeter dans l’aventure\, elle est accessible\, elle est à nos portes ! Roulez\, Action ! \nLeurs Odyssées est un film Bivouak réalisé par Sophie Gateau. Bivouak a pour mission de transformer l’imaginaire du voyage responsable\, en organisant des  événements à vélo conviviaux et en autonomie\, en France et en Europe. Bivouak a été créé par Caroline Prigent et Charlotte Jammes pour encourager le plus grand nombre à partir à l’aventure ! \nPrésentation Sophie Gateau (https://www.instagram.com/sofigato) \nA propose de la réalisatrice : \nSophie Gateau est une photographe et réalisatrice\, qui travaille particulièrement dans le domaine de l’outdoor. Elle travaille notamment pour des acteurs majeurs du milieu du vélo\, pour l’édition et la presse spécialisée française et internationale. Elle aime aussi raconter des histoires d’aventures à vélo\, qui sont parfois les siennes. Elle a réalisé au printemps un documentaire « Leurs Odyssées » sur les histoires de 5 femmes qui se lancent pour\nla première fois sur une épreuve de bikepacking en autonomie. \n  \nSoirée conviviale en mode auberge espagnole dès 18h – projection à 19h suivi d’une discussion avec le public.
URL:https://foixmobilites.org/index.php/event/soiree-projection-debat-le-voyage-a-velo-au-feminin/
LOCATION:espace cutlurel olivier carol\, Estive\, Foix\, 20 avenue du général de gaulle\, Foix\, 09000\, France
ORGANIZER;CN="Foix maison des mob":MAILTO:bonjour@foixmobilites.org
END:VEVENT
BEGIN:VEVENT
DTSTART;TZID=Europe/Paris:20250506T181500
DTEND;TZID=Europe/Paris:20250506T213000
DTSTAMP:20260421T130936
CREATED:20250416T065305Z
LAST-MODIFIED:20250416T065421Z
UID:491-1746555300-1746567000@foixmobilites.org
SUMMARY:Réunion de CA
DESCRIPTION:La collégiale qui administre Foix maison des mobilités se réunie chaque début de mois de 18h15 à 21h30. \nIl est possible pour les adhérent·es d’y assister « en bocal »\, c’est à dire en observateur\, sans interagir dans un premier temps\, pour les curieux qui souhaitent mieux comprendre le fonctionnement de l’asso avant de s’y investir. Pour y assister merci de vous inscrire en amont par mail via bonjour@foixmobilites.org ou au 07 88 97 37 64.
URL:https://foixmobilites.org/index.php/event/reunion-de-ca/
LOCATION:17bis cours Irenee cros\, 09000 FOIX
CATEGORIES:Vie de l'asso
ORGANIZER;CN="Foix maison des mob":MAILTO:bonjour@foixmobilites.org
END:VEVENT
BEGIN:VEVENT
DTSTART;TZID=Europe/Paris:20250501T100000
DTEND;TZID=Europe/Paris:20250501T170000
DTSTAMP:20260421T130936
CREATED:20250415T142904Z
LAST-MODIFIED:20250415T142956Z
UID:465-1746093600-1746118800@foixmobilites.org
SUMMARY:Bourse aux vélos de Printemps
DESCRIPTION:
URL:https://foixmobilites.org/index.php/event/bourse-aux-velos-de-printemps/
LOCATION:09120 Varilhes\, Place de la Libération\, Varilhes\, 09120\, France
ORGANIZER;CN="Foix maison des mob":MAILTO:bonjour@foixmobilites.org
END:VEVENT
BEGIN:VEVENT
DTSTART;TZID=Europe/Paris:20250425T140000
DTEND;TZID=Europe/Paris:20250425T170000
DTSTAMP:20260421T130936
CREATED:20250416T070444Z
LAST-MODIFIED:20250416T070444Z
UID:499-1745589600-1745600400@foixmobilites.org
SUMMARY:Permanence atelier
DESCRIPTION:Les permanences ateliers tournent grâce à des bénévoles. \nVous avez besoin de réparer ou de réviser votre vélo : ce créneau est fait pour vous. \nVous trouverez tout le nécessaire pour bricoler votre vélo\, quelques pièces d’usure neuves à la vente et des pièces d’occasion en vente à prix libre. \nL’accès à l’atelier est gratuit sous réserve d’une adhésion de 15€ pour un an. \nVous avez aimé l’ambiance\, l’accueil et vous souhaitez que ça continue : n’hésitez pas à tenir des permanences en binôme avec les bénévoles mécanicien·ne. Pas besoin d’être méca pour tenir une perm. \nPour plus d’infos sur l’orga des permanences\, demander Thibault ou Laurie ou Alain.
URL:https://foixmobilites.org/index.php/event/permanence-atelier-3/
LOCATION:17 cour irenee cros 09000 foix\, 17 cours irenee cros\, Foix\, 09000\, France
CATEGORIES:Permanence atelier
END:VEVENT
BEGIN:VEVENT
DTSTART;TZID=Europe/Paris:20250423T170000
DTEND;TZID=Europe/Paris:20250423T210000
DTSTAMP:20260421T130936
CREATED:20250416T070253Z
LAST-MODIFIED:20250416T070254Z
UID:497-1745427600-1745442000@foixmobilites.org
SUMMARY:Permanence atelier
DESCRIPTION:Les permanences ateliers tournent grâce à des bénévoles. \nVous avez besoin de réparer ou de réviser votre vélo : ce créneau est fait pour vous. \nVous trouverez tout le nécessaire pour bricoler votre vélo\, quelques pièces d’usure neuves à la vente et des pièces d’occasion en vente à prix libre. \nL’accès à l’atelier est gratuit sous réserve d’une adhésion de 15€ pour un an. \nVous avez aimé l’ambiance\, l’accueil et vous souhaitez que ça continue : n’hésitez pas à tenir des permanences en binôme avec les bénévoles mécanicien·ne. Pas besoin d’être méca pour tenir une perm. \nPour plus d’infos sur l’orga des permanences\, demander Thibault ou Laurie ou Alain.
URL:https://foixmobilites.org/index.php/event/permanence-atelier-2/
LOCATION:17 cour irenee cros 09000 foix\, 17 cours irenee cros\, Foix\, 09000\, France
CATEGORIES:Permanence atelier
END:VEVENT
BEGIN:VEVENT
DTSTART;TZID=Europe/Paris:20250418T140000
DTEND;TZID=Europe/Paris:20250418T170000
DTSTAMP:20260421T130936
CREATED:20250415T145207Z
LAST-MODIFIED:20250416T070121Z
UID:475-1744984800-1744995600@foixmobilites.org
SUMMARY:Permanence atelier
DESCRIPTION:Les permanences ateliers tournent grâce à des bénévoles. \nVous avez besoin de réparer ou de réviser votre vélo : ce créneau est fait pour vous. \nVous trouverez tout le nécessaire pour bricoler votre vélo\, quelques pièces d’usure neuves à la vente et des pièces d’occasion en vente à prix libre. \nL’accès à l’atelier est gratuit sous réserve d’une adhésion de 15€ pour un an. \nVous avez aimé l’ambiance\, l’accueil et vous souhaitez que ça continue : n’hésitez pas à tenir des permanences en binôme avec les bénévoles mécanicien·ne. Pas besoin d’être méca pour tenir une perm. \nPour plus d’infos sur l’orga des permanences\, demander Thibault ou Laurie ou Alain.
URL:https://foixmobilites.org/index.php/event/permanence-atelier/
LOCATION:17 bis cour irenee cros\, foix\, 17 cour irenee cros\, Foix\, 09000\, France
CATEGORIES:Permanence atelier
END:VEVENT
BEGIN:VEVENT
DTSTART;TZID=Europe/Paris:20250416T170000
DTEND;TZID=Europe/Paris:20250416T210000
DTSTAMP:20260421T130936
CREATED:20250415T143642Z
LAST-MODIFIED:20250415T143642Z
UID:470-1744822800-1744837200@foixmobilites.org
SUMMARY:Apéro remontage vélos
DESCRIPTION:C’est le moment de réviser et remonter les vélos de l’atelier pour préparer la Bourse aux vélos du 1er mai! Pensez à apporter de quoi faire auberge espagnole.
URL:https://foixmobilites.org/index.php/event/apero-remontage-velos/
LOCATION:cour Irenee cros\, 17 bis\, Foix\, 09000\, France
CATEGORIES:Apéro démontage
ORGANIZER;CN="Foix maison des mob":MAILTO:bonjour@foixmobilites.org
END:VEVENT
BEGIN:VEVENT
DTSTART;TZID=Europe/Paris:20250413T193000
DTEND;TZID=Europe/Paris:20250413T220000
DTSTAMP:20260421T130936
CREATED:20250415T155037Z
LAST-MODIFIED:20250415T155037Z
UID:483-1744572600-1744581600@foixmobilites.org
SUMMARY:Sortie vélo sous la pleine lune
DESCRIPTION:
URL:https://foixmobilites.org/index.php/event/sortie-velo-sous-la-pleine-lune/
LOCATION:17 bis cour irenee cros\, foix\, 17 cour irenee cros\, Foix\, 09000\, France
ORGANIZER;CN="Foix maison des mob":MAILTO:bonjour@foixmobilites.org
END:VEVENT
BEGIN:VEVENT
DTSTART;TZID=Europe/Paris:20250408T181500
DTEND;TZID=Europe/Paris:20250408T210000
DTSTAMP:20260421T130936
CREATED:20250416T064853Z
LAST-MODIFIED:20250416T064853Z
UID:488-1744136100-1744146000@foixmobilites.org
SUMMARY:Réunion de CA mensuelle
DESCRIPTION:La collégiale qui administre Foix maison des mobilités se réunie en réunion mensuelle chaque début de mois de 18h15 à 21h en général. \nIl est possible pour les adhérent·es de l’association d’y assister « en bocal »\, c’est à dire en observateur\, sans interagir dans un premier temps\, pour les curieux souhaitent mieux comprendre comment fonctionne l’asso avant de s’y investir. Pour y assister vous devez nous joindre en amont par mail via bonjour@foixmobilites.org ou au 07 88 97 37 64. \n 
URL:https://foixmobilites.org/index.php/event/reunion-de-ca-mensuelle/
LOCATION:17 cour irenee cros 09000 foix\, 17 cours irenee cros\, Foix\, 09000\, France
CATEGORIES:Vie de l'asso
ORGANIZER;CN="Foix maison des mob":MAILTO:bonjour@foixmobilites.org
END:VEVENT
END:VCALENDAR